BEGIN:VCALENDAR
VERSION:2.0
PRODID:-//Florida Healthy Start Coalition of Miami-Dade - ECPv6.15.18//NONSGML v1.0//EN
CALSCALE:GREGORIAN
METHOD:PUBLISH
X-ORIGINAL-URL:https://hscmd.org
X-WR-CALDESC:Events for Florida Healthy Start Coalition of Miami-Dade
REFRESH-INTERVAL;VALUE=DURATION:PT1H
X-Robots-Tag:noindex
X-PUBLISHED-TTL:PT1H
BEGIN:VTIMEZONE
TZID:America/New_York
BEGIN:DAYLIGHT
TZOFFSETFROM:-0500
TZOFFSETTO:-0400
TZNAME:EDT
DTSTART:20210314T070000
END:DAYLIGHT
BEGIN:STANDARD
TZOFFSETFROM:-0400
TZOFFSETTO:-0500
TZNAME:EST
DTSTART:20211107T060000
END:STANDARD
BEGIN:DAYLIGHT
TZOFFSETFROM:-0500
TZOFFSETTO:-0400
TZNAME:EDT
DTSTART:20220313T070000
END:DAYLIGHT
BEGIN:STANDARD
TZOFFSETFROM:-0400
TZOFFSETTO:-0500
TZNAME:EST
DTSTART:20221106T060000
END:STANDARD
BEGIN:DAYLIGHT
TZOFFSETFROM:-0500
TZOFFSETTO:-0400
TZNAME:EDT
DTSTART:20230312T070000
END:DAYLIGHT
BEGIN:STANDARD
TZOFFSETFROM:-0400
TZOFFSETTO:-0500
TZNAME:EST
DTSTART:20231105T060000
END:STANDARD
BEGIN:DAYLIGHT
TZOFFSETFROM:-0500
TZOFFSETTO:-0400
TZNAME:EDT
DTSTART:20240310T070000
END:DAYLIGHT
BEGIN:STANDARD
TZOFFSETFROM:-0400
TZOFFSETTO:-0500
TZNAME:EST
DTSTART:20241103T060000
END:STANDARD
END:VTIMEZONE
BEGIN:VEVENT
DTSTART;VALUE=DATE:20230920
DTEND;VALUE=DATE:20230921
DTSTAMP:20260424T073805
CREATED:20230725T143329Z
LAST-MODIFIED:20230918T174237Z
UID:240915-1695168000-1695254399@hscmd.org
SUMMARY:HSCMD Executive Committee Meeting- CANCELED
DESCRIPTION:Any questions\, do not hesitate to reach out.  Thank you.\nAdmin@hscmd.org or call the office at 305-541-0210.
URL:https://hscmd.org/event/hscmd-executive-committee-meeting-11/
CATEGORIES:Community Meetings
ORGANIZER;CN="HSCMD Admin":MAILTO:admin@hscmd.org
END:VEVENT
BEGIN:VEVENT
DTSTART;TZID=America/New_York:20230824T143000
DTEND;TZID=America/New_York:20230824T170000
DTSTAMP:20260424T073805
CREATED:20230806T204922Z
LAST-MODIFIED:20230806T204922Z
UID:240952-1692887400-1692896400@hscmd.org
SUMMARY:Maternal Infant Child Health (MICH) Meeting
DESCRIPTION:Meeting will occur via zoom.  If you would like to request the specifics of the meeting\, please make the request to: Admin@hscmd.org or call the office at 305-541-0210.
URL:https://hscmd.org/event/maternal-infant-child-health-mich-meeting-4/
LOCATION:Zoom
CATEGORIES:Community Meetings
ORGANIZER;CN="HSCMD Admin":MAILTO:admin@hscmd.org
END:VEVENT
BEGIN:VEVENT
DTSTART;TZID=America/New_York:20230824T130000
DTEND;TZID=America/New_York:20230824T140000
DTSTAMP:20260424T073805
CREATED:20230817T212923Z
LAST-MODIFIED:20230817T212923Z
UID:241008-1692882000-1692885600@hscmd.org
SUMMARY:Home Visitation Advisory Committee Meeting
DESCRIPTION:Thursday\, August 24\, 2023 from 1:00 – 2:00 pm\nMeeting will occur via zoom.  If you would like to request the specifics of the meeting\, please make the request to: Admin@hscmd.org or call the office at 305-541-0210.
URL:https://hscmd.org/event/home-visitation-advisory-committee-meeting-2/
LOCATION:Zoom
CATEGORIES:Community Meetings
ORGANIZER;CN="HSCMD Admin":MAILTO:admin@hscmd.org
END:VEVENT
BEGIN:VEVENT
DTSTART;TZID=America/New_York:20230726T093000
DTEND;TZID=America/New_York:20230726T103000
DTSTAMP:20260424T073805
CREATED:20230724T133407Z
LAST-MODIFIED:20230725T144141Z
UID:240908-1690363800-1690367400@hscmd.org
SUMMARY:HSCMD Executive Committee Meeting
DESCRIPTION:Wednesday\, July 26\, 2023 from 9:30 – 10:30 a.m.\n\n\n\nIf you would like to request the specifics of the meeting\, please make the request to: Admin@hscmd.org or call the office at 305-541-0210.
URL:https://hscmd.org/event/hscmd-board-of-directors-meeting-11/
CATEGORIES:Community Meetings
ORGANIZER;CN="HSCMD Admin":MAILTO:admin@hscmd.org
END:VEVENT
BEGIN:VEVENT
DTSTART;TZID=America/New_York:20230627T100000
DTEND;TZID=America/New_York:20230627T113000
DTSTAMP:20260424T073805
CREATED:20230519T151629Z
LAST-MODIFIED:20230519T163507Z
UID:240493-1687860000-1687865400@hscmd.org
SUMMARY:Fetal Infant Mortality Review & Community Action Group Meeting
DESCRIPTION:Fetal Infant Mortality Review (FIMR) Community Action Group (CAG) Meeting\n\nTuesday\, June 27\, 2023 from 10:00 – 11:30 am\n\n\n\n\nMeeting will occur via zoom.  For additional information\, please call the office at 305-541-0210.
URL:https://hscmd.org/event/fetal-infant-mortality-review-community-action-group-meeting/
LOCATION:Zoom
CATEGORIES:Community Meetings
ORGANIZER;CN="HSCMD Admin":MAILTO:admin@hscmd.org
END:VEVENT
BEGIN:VEVENT
DTSTART;TZID=America/New_York:20230621T093000
DTEND;TZID=America/New_York:20230621T110000
DTSTAMP:20260424T073805
CREATED:20220729T210120Z
LAST-MODIFIED:20230504T184754Z
UID:235185-1687339800-1687345200@hscmd.org
SUMMARY:HSCMD Board of Directors Meeting
DESCRIPTION:Wednesday\, June 21\, 2023 from 9:30 – 11:00 a.m.\n\n\n\nIf you would like to request the specifics of the meeting\, please make the request to: Admin@hscmd.org or call the office at 305-541-0210.
URL:https://hscmd.org/event/hscmd-board-of-directors-meeting-10/
ORGANIZER;CN="HSCMD Admin":MAILTO:admin@hscmd.org
END:VEVENT
BEGIN:VEVENT
DTSTART;TZID=America/New_York:20230525T143000
DTEND;TZID=America/New_York:20230525T163000
DTSTAMP:20260424T073805
CREATED:20230519T151321Z
LAST-MODIFIED:20230519T163057Z
UID:240490-1685025000-1685032200@hscmd.org
SUMMARY:Maternal Infant Child Health (MICH) Meeting
DESCRIPTION:Thursday\, May 25\, 2023 @ 2:30 pm – 4:30 pm\n\n\n\nMeeting will occur via zoom.  If you would like to request the specifics of the meeting\, please make the request to: Admin@hscmd.org or call the office at 305-541-0210.
URL:https://hscmd.org/event/maternal-infant-child-health-mich-meeting-3/
LOCATION:Zoom
CATEGORIES:Community Meetings
ORGANIZER;CN="HSCMD Admin":MAILTO:admin@hscmd.org
END:VEVENT
BEGIN:VEVENT
DTSTART;TZID=America/New_York:20230525T130000
DTEND;TZID=America/New_York:20230525T140000
DTSTAMP:20260424T073805
CREATED:20230519T163740Z
LAST-MODIFIED:20230519T163901Z
UID:240513-1685019600-1685023200@hscmd.org
SUMMARY:Home Visitation Advisory Committee Meeting
DESCRIPTION:Thursday\, May 25\, 2023 from 1:00 – 2:00 pm\n\n\n\nMeeting will occur via zoom.  If you would like to request the specifics of the meeting\, please make the request to: Admin@hscmd.org or call the office at 305-541-0210.
URL:https://hscmd.org/event/home-visitation-advisory-committee-meeting/
LOCATION:Zoom
CATEGORIES:Community Meetings
ORGANIZER;CN="HSCMD Admin":MAILTO:admin@hscmd.org
END:VEVENT
BEGIN:VEVENT
DTSTART;TZID=America/New_York:20230524T093000
DTEND;TZID=America/New_York:20230524T100000
DTSTAMP:20260424T073805
CREATED:20230519T144959Z
LAST-MODIFIED:20230519T144959Z
UID:240487-1684920600-1684922400@hscmd.org
SUMMARY:HSCMD Ad Hoc Executive Committee Meeting
DESCRIPTION:Wednesday\, May 24\, 2023 from 9:30 – 10:00 a.m.\n\n\nIf you would like to request the specifics of the meeting\, please make the request to: Admin@hscmd.org or call the office at 305-541-0210.
URL:https://hscmd.org/event/hscmd-ad-hoc-executive-committee-meeting-3/
ORGANIZER;CN="HSCMD Admin":MAILTO:admin@hscmd.org
END:VEVENT
BEGIN:VEVENT
DTSTART;TZID=America/New_York:20230510T093000
DTEND;TZID=America/New_York:20230510T103000
DTSTAMP:20260424T073805
CREATED:20220729T210006Z
LAST-MODIFIED:20230504T184644Z
UID:235183-1683711000-1683714600@hscmd.org
SUMMARY:HSCMD Executive Committee Meeting
DESCRIPTION:Wednesday\, May 10\, 2023 from 9:30 – 10:30 a.m.\n\n\nIf you would like to request the specifics of the meeting\, please make the request to: Admin@hscmd.org or call the office at 305-541-0210.
URL:https://hscmd.org/event/hscmd-executive-committee-meeting-10/
ORGANIZER;CN="HSCMD Admin":MAILTO:admin@hscmd.org
END:VEVENT
BEGIN:VEVENT
DTSTART;TZID=America/New_York:20230329T093000
DTEND;TZID=America/New_York:20230329T110000
DTSTAMP:20260424T073805
CREATED:20220729T205901Z
LAST-MODIFIED:20230316T203252Z
UID:235180-1680082200-1680087600@hscmd.org
SUMMARY:HSCMD Board of Directors Meeting
DESCRIPTION:Wednesday\, March 29\, 2023 from 9:30 – 11:00 a.m.\nIf you would like to request the specifics of the meeting\, please make the request to: Admin@hscmd.org or call the office at 305-541-0210.
URL:https://hscmd.org/event/hscmd-board-of-directors-meeting-9/
ORGANIZER;CN="HSCMD Admin":MAILTO:admin@hscmd.org
END:VEVENT
BEGIN:VEVENT
DTSTART;TZID=America/New_York:20230308T100000
DTEND;TZID=America/New_York:20230308T113000
DTSTAMP:20260424T073805
CREATED:20230228T214722Z
LAST-MODIFIED:20230228T214722Z
UID:240302-1678269600-1678275000@hscmd.org
SUMMARY:Fetal Infant Mortality Review (FIMR) Community Action Group (CAG) Meeting
DESCRIPTION:March 8\, 2023 @ 10:00 am – 11:30 am\n\n\n\nWednesday\, March 8\, 2023 from 10:00 a.m. – 11:30 a.m.\nMeeting will occur via zoom.  For additional information\, please call the office at 305-541-0210.
URL:https://hscmd.org/event/fetal-infant-mortality-review-fimr-community-action-group-cag-meeting-3/
LOCATION:Zoom
ORGANIZER;CN="HSCMD Admin":MAILTO:admin@hscmd.org
END:VEVENT
BEGIN:VEVENT
DTSTART;TZID=America/New_York:20230126T093000
DTEND;TZID=America/New_York:20230126T103000
DTSTAMP:20260424T073805
CREATED:20220729T205740Z
LAST-MODIFIED:20221212T231630Z
UID:235178-1674725400-1674729000@hscmd.org
SUMMARY:HSCMD Executive Committee Meeting
DESCRIPTION:Thursday\, January 26\, 2023 from 9:30 – 10:30 a.m.\n\n\nIf you would like to request the specifics of the meeting\, please make the request to: Admin@hscmd.org or call the office at 305-541-0210.
URL:https://hscmd.org/event/hscmd-executive-committee-meeting-9/
ORGANIZER;CN="HSCMD Admin":MAILTO:admin@hscmd.org
END:VEVENT
BEGIN:VEVENT
DTSTART;TZID=America/New_York:20221214T100000
DTEND;TZID=America/New_York:20221214T113000
DTSTAMP:20260424T073805
CREATED:20221108T203428Z
LAST-MODIFIED:20221108T203428Z
UID:240123-1671012000-1671017400@hscmd.org
SUMMARY:Fetal Infant Mortality Review (FIMR) Community Action Group (CAG) Meeting
DESCRIPTION:Wednesday\, December 14\, 2022 from 10:00 a.m. – 11:30 a.m.\nMeeting will occur via zoom.  If you would like to request the specifics of the meeting\, please make the request to:\nAdmin@hscmd.org or call the office at 305-541-0210.
URL:https://hscmd.org/event/fetal-infant-mortality-review-fimr-community-action-group-cag-meeting-2/
CATEGORIES:Community Meetings
END:VEVENT
BEGIN:VEVENT
DTSTART;TZID=America/New_York:20221130T093000
DTEND;TZID=America/New_York:20221130T110000
DTSTAMP:20260424T073805
CREATED:20221108T203250Z
LAST-MODIFIED:20221108T203250Z
UID:240121-1669800600-1669806000@hscmd.org
SUMMARY:HSCMD Board of Directors Meeting
DESCRIPTION:Wednesday\, November 30\, 2022 from 9:30 a.m. – 11:00 a.m.\nMeeting will occur via zoom and in person.  If you would like to request the specifics of the meeting\, please make the request to: Admin@hscmd.org or call the office at 305-541-0210.
URL:https://hscmd.org/event/hscmd-board-of-directors-meeting-8/
CATEGORIES:Community Meetings
END:VEVENT
BEGIN:VEVENT
DTSTART;TZID=America/New_York:20221110T143000
DTEND;TZID=America/New_York:20221110T163000
DTSTAMP:20260424T073805
CREATED:20221108T202857Z
LAST-MODIFIED:20221108T202857Z
UID:240119-1668090600-1668097800@hscmd.org
SUMMARY:Maternal Infant Child Health (MICH) Meeting
DESCRIPTION:Thursday\, November 10\, 2022 from 2:30 p.m. – 4:30 p.m.   Meeting will occur via zoom.  If you would like to request the specifics of the meeting\, please make the request to: Admin@hscmd.orgor call the office at 305-541-0210.
URL:https://hscmd.org/event/maternal-infant-child-health-mich-meeting-2/
CATEGORIES:Community Events
END:VEVENT
BEGIN:VEVENT
DTSTART;TZID=America/New_York:20220922T093000
DTEND;TZID=America/New_York:20220922T103000
DTSTAMP:20260424T073805
CREATED:20220729T205513Z
LAST-MODIFIED:20220729T210449Z
UID:235172-1663839000-1663842600@hscmd.org
SUMMARY:HSCMD Executive Committee Meeting
DESCRIPTION:Thursday\, September 22\, 2022 from 9:30 – 10:30 a.m.\n  \nMEETING WILL OCCUR VIA ZOOM\n\n\n\nIf you would like to request the password information for this call\, please make the request to:\nAdmin@hscmd.org or call the office at 305-541-0210.
URL:https://hscmd.org/event/hscmd-executive-committee-meeting-8/
LOCATION:Zoom
ORGANIZER;CN="HSCMD Admin":MAILTO:admin@hscmd.org
END:VEVENT
BEGIN:VEVENT
DTSTART;TZID=America/New_York:20220913T100000
DTEND;TZID=America/New_York:20220913T113000
DTSTAMP:20260424T073805
CREATED:20220911T172603Z
LAST-MODIFIED:20220911T172603Z
UID:238888-1663063200-1663068600@hscmd.org
SUMMARY:Fetal Infant Mortality Review – Community Action Group (FIMR CAG)
DESCRIPTION:Tuesday\, September 13th 10:00-11:30 am \nFor registration information\, contact Heather Baker at (305) 541-0210.
URL:https://hscmd.org/event/fetal-infant-mortality-review-community-action-group-fimr-cag-2/
LOCATION:Zoom
CATEGORIES:Community Meetings
ORGANIZER;CN="Healthy Start Coalition of Miami-Dade":MAILTO:FIMR@hscmd.org
END:VEVENT
BEGIN:VEVENT
DTSTART;TZID=America/New_York:20220909T090000
DTEND;TZID=America/New_York:20220909T100000
DTSTAMP:20260424T073805
CREATED:20220902T195433Z
LAST-MODIFIED:20220902T195623Z
UID:238371-1662714000-1662717600@hscmd.org
SUMMARY:HSCMD Ad Hoc BOD Meeting
DESCRIPTION:Friday\, September 9\, 2022 from 9:00 – 10:00 a.m.   MEETING WILL OCCUR VIA ZOOM If you would like to request the password information for this call\, please make the request to: Admin@hscmd.org or call the office at 305-541-0210.
URL:https://hscmd.org/event/ad-hoc-bod-meeting/
LOCATION:Zoom
CATEGORIES:Community Meetings
ORGANIZER;CN="HSCMD Admin":MAILTO:admin@hscmd.org
END:VEVENT
BEGIN:VEVENT
DTSTART;TZID=America/New_York:20220825T143000
DTEND;TZID=America/New_York:20220825T163000
DTSTAMP:20260424T073805
CREATED:20220810T161734Z
LAST-MODIFIED:20220810T162144Z
UID:235869-1661437800-1661445000@hscmd.org
SUMMARY:Maternal Infant Child Health (MICH) Meeting
DESCRIPTION:MEETING WILL OCCUR VIA ZOOM \n\nThursday\, August 25\, 2022 @ 2:30 pm – 4:30 pm\n\n\n\nIf you are interested in joining this meeting\, please register by clicking below: \n\n\nhttps://us06web.zoom.us/meeting/register/tZUucuCqrjovH9JwdqvxtKC8NQuEPlUF8A0- \nFor more information\, please contact admin@hscmd.org or call the office at 305-541-0210. \n 
URL:https://hscmd.org/event/maternal-infant-child-health-mich-meeting/
LOCATION:Zoom
ORGANIZER;CN="Healthy Start Coalition of Miami-Dade":MAILTO:FIMR@hscmd.org
END:VEVENT
BEGIN:VEVENT
DTSTART;TZID=America/New_York:20220728T093000
DTEND;TZID=America/New_York:20220728T103000
DTSTAMP:20260424T073805
CREATED:20220729T205404Z
LAST-MODIFIED:20220729T205404Z
UID:235163-1659000600-1659004200@hscmd.org
SUMMARY:HSCMD Executive Committee Meeting
DESCRIPTION:Thursday\, July 28\, 2022 from 9:30 – 10:30 a.m.\nMEETING WILL OCCUR VIA ZOOM\n\n\n\nIf you would like to request the password information for this call\, please make the request to:\nAdmin@hscmd.org or call the office at 305-541-0210.
URL:https://hscmd.org/event/hscmd-executive-committee-meeting-7/
LOCATION:Zoom
ORGANIZER;CN="HSCMD Admin":MAILTO:admin@hscmd.org
END:VEVENT
BEGIN:VEVENT
DTSTART;TZID=America/New_York:20220628T093000
DTEND;TZID=America/New_York:20220628T110000
DTSTAMP:20260424T073805
CREATED:20210903T190613Z
LAST-MODIFIED:20220518T162452Z
UID:218063-1656408600-1656414000@hscmd.org
SUMMARY:HSCMD Board of Directors Meeting
DESCRIPTION:MEETING WILL OCCUR VIA ZOOM \nIf you would like to request the password information for this call please make the request to: \nAdmin@hscmd.org or call the office at 305-541-0210
URL:https://hscmd.org/event/hscmd-board-of-directors-meeting-7/
LOCATION:Zoom
CATEGORIES:Community Meetings
ORGANIZER;CN="Healthy Start Coalition of Miami-Dade":MAILTO:info@hscmd.org
END:VEVENT
BEGIN:VEVENT
DTSTART;TZID=America/New_York:20220615T100000
DTEND;TZID=America/New_York:20220615T113000
DTSTAMP:20260424T073805
CREATED:20220519T161215Z
LAST-MODIFIED:20220519T161215Z
UID:232106-1655287200-1655292600@hscmd.org
SUMMARY:Fetal Infant Mortality Review (FIMR) Community Action Group (CAG) Meeting
DESCRIPTION:The meeting will take place via Zoom. Please click here to register in advance.
URL:https://hscmd.org/event/fetal-infant-mortality-review-fimr-community-action-group-cag-meeting/
LOCATION:Zoom
CATEGORIES:Community Meetings
ORGANIZER;CN="Healthy Start Coalition of Miami-Dade":MAILTO:FIMR@hscmd.org
END:VEVENT
BEGIN:VEVENT
DTSTART;TZID=America/New_York:20220526T143000
DTEND;TZID=America/New_York:20220526T163000
DTSTAMP:20260424T073805
CREATED:20220518T162002Z
LAST-MODIFIED:20220518T162002Z
UID:232097-1653575400-1653582600@hscmd.org
SUMMARY:Maternal Infant Child Health Meeting (MICH)
DESCRIPTION:If you are interested in joining this meeting\, please submit your name and contact information via email to HSCMDOutreach@hscmd.org with the meeting title and date in the subject line.
URL:https://hscmd.org/event/maternal-infant-child-health-meeting-mich/
LOCATION:Zoom
CATEGORIES:Community Meetings
ORGANIZER;CN="Healthy Start Coalition of Miami-Dade":MAILTO:info@hscmd.org
END:VEVENT
BEGIN:VEVENT
DTSTART;TZID=America/New_York:20220421T093000
DTEND;TZID=America/New_York:20220421T103000
DTSTAMP:20260424T073805
CREATED:20210903T190439Z
LAST-MODIFIED:20210903T190439Z
UID:218062-1650533400-1650537000@hscmd.org
SUMMARY:HSCMD Executive Committee Meeting
DESCRIPTION:MEETING WILL OCCUR VIA ZOOM \nIf you would like to request the password information for this call please make the request to: \nAdmin@hscmd.org or call the office at 305-541-0210
URL:https://hscmd.org/event/hscmd-executive-committee-meeting-6/
LOCATION:Zoom
CATEGORIES:Community Meetings
ORGANIZER;CN="Brittany Duque":MAILTO:Bduque@hscmd.org
END:VEVENT
BEGIN:VEVENT
DTSTART;TZID=America/New_York:20220317T100000
DTEND;TZID=America/New_York:20220317T113000
DTSTAMP:20260424T073805
CREATED:20220207T143931Z
LAST-MODIFIED:20220207T144004Z
UID:227254-1647511200-1647516600@hscmd.org
SUMMARY:Fetal Infant Mortality Review – Community Action Group (FIMR CAG)
DESCRIPTION:Please email FIMR@hscmd.org if interested in attending the meeting.  Kindly include your name\, title\, organization\, and phone number.
URL:https://hscmd.org/event/fetal-infant-mortality-review-community-action-group-fimr-cag/
LOCATION:Zoom
ORGANIZER;CN="Healthy Start Coalition of Miami-Dade":MAILTO:info@hscmd.org
END:VEVENT
BEGIN:VEVENT
DTSTART;TZID=America/New_York:20220224T143000
DTEND;TZID=America/New_York:20220224T163000
DTSTAMP:20260424T073805
CREATED:20220207T143821Z
LAST-MODIFIED:20220207T143821Z
UID:227253-1645713000-1645720200@hscmd.org
SUMMARY:Maternal Infant Child Health (MICH)
DESCRIPTION:Please email HSCMDINFO@hscmd.org if interested in attending the meeting.  Kindly include your name\, title\, organization\, and phone number.
URL:https://hscmd.org/event/maternal-infant-child-health-mich/
LOCATION:Zoom
ORGANIZER;CN="Healthy Start Coalition of Miami-Dade":MAILTO:info@hscmd.org
END:VEVENT
BEGIN:VEVENT
DTSTART;TZID=America/New_York:20220223T093000
DTEND;TZID=America/New_York:20220223T153000
DTSTAMP:20260424T073805
CREATED:20210903T190330Z
LAST-MODIFIED:20220207T145112Z
UID:218061-1645608600-1645630200@hscmd.org
SUMMARY:HSCMD Strategic Planning Board of Directors Meeting
DESCRIPTION:MEETING WILL OCCUR VIA ZOOM \nIf you would like to request the password information for this call please make the request to: \nAdmin@hscmd.org or call the office at 305-541-0210
URL:https://hscmd.org/event/hscmd-strategic-planning-board-of-directors-meeting/
LOCATION:Zoom
CATEGORIES:Community Meetings
ORGANIZER;CN="Brittany Duque":MAILTO:Bduque@hscmd.org
END:VEVENT
BEGIN:VEVENT
DTSTART;TZID=America/New_York:20220128T103000
DTEND;TZID=America/New_York:20220128T113000
DTSTAMP:20260424T073805
CREATED:20220128T140549Z
LAST-MODIFIED:20220128T140549Z
UID:227213-1643365800-1643369400@hscmd.org
SUMMARY:Ad Hoc Executive Committee Meeting Debrief
DESCRIPTION:MEETING WILL OCCUR VIA ZOOM \nIf you would like to request the password information for this call please make the request to: \nAdmin@hscmd.org or call the office at 305-541-0210
URL:https://hscmd.org/event/ad-hoc-executive-committee-meeting-debrief/
LOCATION:Zoom
CATEGORIES:Community Events,Community Meetings
END:VEVENT
BEGIN:VEVENT
DTSTART;TZID=America/New_York:20220110T130000
DTEND;TZID=America/New_York:20220110T140000
DTSTAMP:20260424T073805
CREATED:20220110T205525Z
LAST-MODIFIED:20220110T205525Z
UID:225992-1641819600-1641823200@hscmd.org
SUMMARY:HSCMD Ad Hoc Executive Committee Meeting
DESCRIPTION:MEETING WILL OCCUR VIA ZOOM \nIf you would like to request the password information for this call please make the request to: \nAdmin@hscmd.org or call the office at 305-541-0210
URL:https://hscmd.org/event/hscmd-ad-hoc-executive-committee-meeting-2/
LOCATION:Zoom
ORGANIZER;CN="Brittany Duque":MAILTO:Bduque@hscmd.org
END:VEVENT
END:VCALENDAR