BEGIN:VCALENDAR
VERSION:2.0
PRODID:-//Florida Healthy Start Coalition of Miami-Dade - ECPv6.15.18//NONSGML v1.0//EN
CALSCALE:GREGORIAN
METHOD:PUBLISH
X-ORIGINAL-URL:https://hscmd.org
X-WR-CALDESC:Events for Florida Healthy Start Coalition of Miami-Dade
REFRESH-INTERVAL;VALUE=DURATION:PT1H
X-Robots-Tag:noindex
X-PUBLISHED-TTL:PT1H
BEGIN:VTIMEZONE
TZID:America/New_York
BEGIN:DAYLIGHT
TZOFFSETFROM:-0500
TZOFFSETTO:-0400
TZNAME:EDT
DTSTART:20220313T070000
END:DAYLIGHT
BEGIN:STANDARD
TZOFFSETFROM:-0400
TZOFFSETTO:-0500
TZNAME:EST
DTSTART:20221106T060000
END:STANDARD
BEGIN:DAYLIGHT
TZOFFSETFROM:-0500
TZOFFSETTO:-0400
TZNAME:EDT
DTSTART:20230312T070000
END:DAYLIGHT
BEGIN:STANDARD
TZOFFSETFROM:-0400
TZOFFSETTO:-0500
TZNAME:EST
DTSTART:20231105T060000
END:STANDARD
BEGIN:DAYLIGHT
TZOFFSETFROM:-0500
TZOFFSETTO:-0400
TZNAME:EDT
DTSTART:20240310T070000
END:DAYLIGHT
BEGIN:STANDARD
TZOFFSETFROM:-0400
TZOFFSETTO:-0500
TZNAME:EST
DTSTART:20241103T060000
END:STANDARD
BEGIN:DAYLIGHT
TZOFFSETFROM:-0500
TZOFFSETTO:-0400
TZNAME:EDT
DTSTART:20250309T070000
END:DAYLIGHT
BEGIN:STANDARD
TZOFFSETFROM:-0400
TZOFFSETTO:-0500
TZNAME:EST
DTSTART:20251102T060000
END:STANDARD
END:VTIMEZONE
BEGIN:VEVENT
DTSTART;TZID=America/New_York:20241212T140000
DTEND;TZID=America/New_York:20241212T150000
DTSTAMP:20260421T233056
CREATED:20241212T033931Z
LAST-MODIFIED:20241212T033931Z
UID:242861-1734012000-1734015600@hscmd.org
SUMMARY:Home Visitation Advisory Committee Meeting
DESCRIPTION:Thursday\, December 12\, 2024 from 2:00 – 3:00 pm Meeting will occur via zoom.  If you would like to request the specifics of the meeting\, please make the request to: Admin@hscmd.org or call the office at 305-541-0210.
URL:https://hscmd.org/event/home-visitation-advisory-committee-meeting-6/
LOCATION:Zoom
CATEGORIES:Community Meetings
ORGANIZER;CN="HSCMD Admin":MAILTO:admin@hscmd.org
END:VEVENT
BEGIN:VEVENT
DTSTART;TZID=America/New_York:20241204T093000
DTEND;TZID=America/New_York:20241204T110000
DTSTAMP:20260421T233056
CREATED:20240706T221815Z
LAST-MODIFIED:20240709T175954Z
UID:242228-1733304600-1733310000@hscmd.org
SUMMARY:HSCMD Board of Directors Meeting
DESCRIPTION:Wednesday\, December 4\, 2024 from 9:30 – 11:00 a.m. If you would like to request the specifics of the meeting\, please make the request to: Admin@hscmd.org or call the office at 305-541-0210.
URL:https://hscmd.org/event/hscmd-board-of-directors-meeting-15/
CATEGORIES:Community Meetings
ORGANIZER;CN="HSCMD Admin":MAILTO:admin@hscmd.org
END:VEVENT
BEGIN:VEVENT
DTSTART;TZID=America/New_York:20241107T093000
DTEND;TZID=America/New_York:20241107T113000
DTSTAMP:20260421T233056
CREATED:20240827T141605Z
LAST-MODIFIED:20240827T141605Z
UID:242492-1730971800-1730979000@hscmd.org
SUMMARY:Maternal Infant Child Health (MICH) Meeting
DESCRIPTION:Thursday\, November 7\, 2024 @ 9:30 am – 11:30 am Meeting will occur via zoom.  If you would like to request the specifics of the meeting\, please make the request to: Admin@hscmd.org or call the office at 305-541-0210.
URL:https://hscmd.org/event/maternal-infant-child-health-mich-meeting-9/
LOCATION:Zoom
CATEGORIES:Community Meetings
ORGANIZER;CN="HSCMD Admin":MAILTO:admin@hscmd.org
END:VEVENT
BEGIN:VEVENT
DTSTART;TZID=America/New_York:20240926T150000
DTEND;TZID=America/New_York:20240926T160000
DTSTAMP:20260421T233056
CREATED:20240912T190959Z
LAST-MODIFIED:20240912T190959Z
UID:242539-1727362800-1727366400@hscmd.org
SUMMARY:Home Visitation Advisory Committee (HVAC) Meeting
DESCRIPTION:Thursday\, September 26\, 2024 from 3:00 – 4:00 pm Meeting will occur via zoom.  If you would like to request the specifics of the meeting\, please make the request to: Admin@hscmd.org or call the office at 305-541-0210.
URL:https://hscmd.org/event/home-visitation-advisory-committee-hvac-meeting/
LOCATION:Zoom
CATEGORIES:Community Meetings
ORGANIZER;CN="HSCMD Admin":MAILTO:admin@hscmd.org
END:VEVENT
BEGIN:VEVENT
DTSTART;TZID=America/New_York:20240918T093000
DTEND;TZID=America/New_York:20240918T103000
DTSTAMP:20260421T233056
CREATED:20240706T222455Z
LAST-MODIFIED:20240914T145504Z
UID:242241-1726651800-1726655400@hscmd.org
SUMMARY:HSCMD Executive Committee Meeting (CANCELED)
DESCRIPTION:CANCELED\nWednesday\, September 18\, 2024\, from 9:30 – 10:30 a.m. If you would like to request the specifics of the meeting\, please make the request to: Admin@hscmd.org or call the office at 305-541-0210.
URL:https://hscmd.org/event/hscmd-executive-committee-meeting-15/
CATEGORIES:Community Meetings
ORGANIZER;CN="HSCMD Admin":MAILTO:admin@hscmd.org
END:VEVENT
BEGIN:VEVENT
DTSTART;TZID=America/New_York:20240822T143000
DTEND;TZID=America/New_York:20240822T163000
DTSTAMP:20260421T233056
CREATED:20240801T181156Z
LAST-MODIFIED:20240801T181156Z
UID:242398-1724337000-1724344200@hscmd.org
SUMMARY:Maternal Infant Child Health (MICH) Meeting
DESCRIPTION:Meeting will occur via zoom.  If you would like to request the specifics of the meeting\, please make the request to: Admin@hscmd.org or call the office at 305-541-0210.
URL:https://hscmd.org/event/maternal-infant-child-health-mich-meeting-8/
LOCATION:Zoom
CATEGORIES:Community Meetings
ORGANIZER;CN="HSCMD Admin":MAILTO:admin@hscmd.org
END:VEVENT
BEGIN:VEVENT
DTSTART;TZID=America/New_York:20240731T093000
DTEND;TZID=America/New_York:20240731T103000
DTSTAMP:20260421T233056
CREATED:20240706T222355Z
LAST-MODIFIED:20240709T175805Z
UID:242238-1722418200-1722421800@hscmd.org
SUMMARY:HSCMD Executive Committee Meeting
DESCRIPTION:Wednesday\, July 31\, 2024\, from 9:30 – 10:30 a.m. If you would like to request the specifics of the meeting\, please make the request to: Admin@hscmd.org or call the office at 305-541-0210.
URL:https://hscmd.org/event/hscmd-executive-committee-meeting-14/
CATEGORIES:Community Meetings
ORGANIZER;CN="HSCMD Admin":MAILTO:admin@hscmd.org
END:VEVENT
BEGIN:VEVENT
DTSTART;TZID=America/New_York:20240627T100000
DTEND;TZID=America/New_York:20240627T113000
DTSTAMP:20260421T233056
CREATED:20240522T145343Z
LAST-MODIFIED:20240522T145343Z
UID:242074-1719482400-1719487800@hscmd.org
SUMMARY:Fetal Infant Mortality Review (FIMR) Community Action Group (CAG) Meeting
DESCRIPTION:Thursday\, June 27\, 2023\, from 10:00 a.m. – 11:30 a.m. Meeting will occur via zoom.  If you would like to request the specifics of the meeting\, please make the request to: Admin@hscmd.org or call the office at 305-541-0210.
URL:https://hscmd.org/event/fetal-infant-mortality-review-fimr-community-action-group-cag-meeting-6/
LOCATION:Zoom
CATEGORIES:Community Meetings
ORGANIZER;CN="HSCMD Admin":MAILTO:admin@hscmd.org
END:VEVENT
BEGIN:VEVENT
DTSTART;TZID=America/New_York:20240626T093000
DTEND;TZID=America/New_York:20240626T110000
DTSTAMP:20260421T233057
CREATED:20230725T144526Z
LAST-MODIFIED:20230725T144526Z
UID:240926-1719394200-1719399600@hscmd.org
SUMMARY:HSCMD Board of Directors Meeting
DESCRIPTION:Wednesday\, June 26\, 2024 from 9:30 – 11:00 a.m. If you would like to request the specifics of the meeting\, please make the request to: Admin@hscmd.org or call the office at 305-541-0210.
URL:https://hscmd.org/event/hscmd-board-of-directors-meeting-14/
CATEGORIES:Community Meetings
ORGANIZER;CN="HSCMD Admin":MAILTO:admin@hscmd.org
END:VEVENT
BEGIN:VEVENT
DTSTART;TZID=America/New_York:20240613T130000
DTEND;TZID=America/New_York:20240613T140000
DTSTAMP:20260421T233057
CREATED:20240522T150030Z
LAST-MODIFIED:20240522T150030Z
UID:242077-1718283600-1718287200@hscmd.org
SUMMARY:Home Visitation Advisory Committee Meeting
DESCRIPTION:Thursday\, June 13\, 2024 from 1:00 – 2:00 pm Meeting will occur via zoom.  If you would like to request the specifics of the meeting\, please make the request to: Admin@hscmd.org or call the office at 305-541-0210.
URL:https://hscmd.org/event/home-visitation-advisory-committee-meeting-5/
LOCATION:Zoom
CATEGORIES:Community Meetings
ORGANIZER;CN="HSCMD Admin":MAILTO:admin@hscmd.org
END:VEVENT
BEGIN:VEVENT
DTSTART;TZID=America/New_York:20240523T143000
DTEND;TZID=America/New_York:20240523T163000
DTSTAMP:20260421T233057
CREATED:20240522T145212Z
LAST-MODIFIED:20240522T145212Z
UID:242072-1716474600-1716481800@hscmd.org
SUMMARY:Maternal Infant Child Health (MICH) Meeting
DESCRIPTION:Thursday\, May 23\, 2024 @ 2:30 pm – 4:30 pm Meeting will occur via zoom.  If you would like to request the specifics of the meeting\, please make the request to: Admin@hscmd.org or call the office at 305-541-0210.
URL:https://hscmd.org/event/maternal-infant-child-health-mich-meeting-7/
LOCATION:Zoom
CATEGORIES:Community Meetings
ORGANIZER;CN="HSCMD Admin":MAILTO:admin@hscmd.org
END:VEVENT
BEGIN:VEVENT
DTSTART;TZID=America/New_York:20240522T090000
DTEND;TZID=America/New_York:20240522T103000
DTSTAMP:20260421T233057
CREATED:20240521T031408Z
LAST-MODIFIED:20240521T031408Z
UID:242068-1716368400-1716373800@hscmd.org
SUMMARY:HSCMD Ad Hoc Executive Committee Meeting
DESCRIPTION:If you would like to request the specifics of the meeting\, please make the request to: Admin@hscmd.org or call the office at 305-541-0210.
URL:https://hscmd.org/event/hscmd-ad-hoc-executive-committee-meeting-4/
LOCATION:Zoom
CATEGORIES:Community Meetings
ORGANIZER;CN="HSCMD Admin":MAILTO:admin@hscmd.org
END:VEVENT
BEGIN:VEVENT
DTSTART;TZID=America/New_York:20240508T093000
DTEND;TZID=America/New_York:20240508T103000
DTSTAMP:20260421T233057
CREATED:20230725T144057Z
LAST-MODIFIED:20230725T144057Z
UID:240924-1715160600-1715164200@hscmd.org
SUMMARY:HSCMD Executive Committee Meeting
DESCRIPTION:Wednesday\, May 8\, 2024 from 9:30 – 10:30 a.m. If you would like to request the specifics of the meeting\, please make the request to: Admin@hscmd.org or call the office at 305-541-0210.
URL:https://hscmd.org/event/hscmd-executive-committee-meeting-13/
CATEGORIES:Community Meetings
ORGANIZER;CN="HSCMD Admin":MAILTO:admin@hscmd.org
END:VEVENT
BEGIN:VEVENT
DTSTART;TZID=America/New_York:20240403T151500
DTEND;TZID=America/New_York:20240403T153000
DTSTAMP:20260421T233057
CREATED:20230725T143923Z
LAST-MODIFIED:20240402T144436Z
UID:240922-1712157300-1712158200@hscmd.org
SUMMARY:HSCMD Board of Directors Meeting
DESCRIPTION:Wednesday\, April 3\, 2024 from 3:15 – 3:30 p.m. If you would like to request the specifics of the meeting\, please make the request to: Admin@hscmd.org or call the office at 305-541-0210.
URL:https://hscmd.org/event/hscmd-board-of-directors-meeting-13/
CATEGORIES:Community Meetings
ORGANIZER;CN="HSCMD Admin":MAILTO:admin@hscmd.org
END:VEVENT
BEGIN:VEVENT
DTSTART;TZID=America/New_York:20240403T093000
DTEND;TZID=America/New_York:20240403T151000
DTSTAMP:20260421T233057
CREATED:20230725T180727Z
LAST-MODIFIED:20240402T144404Z
UID:240928-1712136600-1712157000@hscmd.org
SUMMARY:HSCMD Board of Directors Strategic Planning Meeting
DESCRIPTION:Wednesday\, April 3\, 2024 from 9:30 a.m. – 3:10 p.m. If you would like to request the specifics of the meeting\, please make the request to: Admin@hscmd.org or call the office at 305-541-0210.
URL:https://hscmd.org/event/hscmd-board-of-directors-strategic-planning-meeting/
CATEGORIES:Community Meetings
ORGANIZER;CN="HSCMD Admin":MAILTO:admin@hscmd.org
END:VEVENT
BEGIN:VEVENT
DTSTART;TZID=America/New_York:20240320T100000
DTEND;TZID=America/New_York:20240320T113000
DTSTAMP:20260421T233057
CREATED:20240222T035739Z
LAST-MODIFIED:20240222T035739Z
UID:241700-1710928800-1710934200@hscmd.org
SUMMARY:Fetal Infant Mortality Review / Community Action Group Meeting
DESCRIPTION:Wednesday\, March 20\, 2024\, from 10:00 a.m. – 11:30 a.m. Meeting will occur via zoom.  If you would like to request the specifics of the meeting\, please make the request to: Admin@hscmd.org or call the office at 305-541-0210.
URL:https://hscmd.org/event/fetal-infant-mortality-review-community-action-group-meeting-2/
LOCATION:Zoom
CATEGORIES:Community Meetings
ORGANIZER;CN="HSCMD Admin":MAILTO:admin@hscmd.org
END:VEVENT
BEGIN:VEVENT
DTSTART;TZID=America/New_York:20240229T130000
DTEND;TZID=America/New_York:20240229T140000
DTSTAMP:20260421T233057
CREATED:20240222T040320Z
LAST-MODIFIED:20240222T040320Z
UID:241702-1709211600-1709215200@hscmd.org
SUMMARY:Home Visitation Advisory Committee Meeting
DESCRIPTION:Thursday\, February 29\, 2024 from 1:00 – 2:00 pm Meeting will occur via zoom.  If you would like to request the specifics of the meeting\, please make the request to: Admin@hscmd.org or call the office at 305-541-0210.
URL:https://hscmd.org/event/home-visitation-advisory-committee-meeting-4/
LOCATION:Zoom
CATEGORIES:Community Meetings
ORGANIZER;CN="HSCMD Admin":MAILTO:admin@hscmd.org
END:VEVENT
BEGIN:VEVENT
DTSTART;TZID=America/New_York:20240222T143000
DTEND;TZID=America/New_York:20240222T163000
DTSTAMP:20260421T233057
CREATED:20240222T035512Z
LAST-MODIFIED:20240222T035512Z
UID:241696-1708612200-1708619400@hscmd.org
SUMMARY:Maternal Infant Child Health (MICH) Meeting
DESCRIPTION:Meeting will occur via zoom.  If you would like to request the specifics of the meeting\, please make the request to: Admin@hscmd.org or call the office at 305-541-0210.
URL:https://hscmd.org/event/maternal-infant-child-health-mich-meeting-6/
LOCATION:Zoom
CATEGORIES:Community Meetings
ORGANIZER;CN="HSCMD Admin":MAILTO:admin@hscmd.org
END:VEVENT
BEGIN:VEVENT
DTSTART;TZID=America/New_York:20240124T093000
DTEND;TZID=America/New_York:20240124T103000
DTSTAMP:20260421T233057
CREATED:20230725T143745Z
LAST-MODIFIED:20230725T144326Z
UID:240920-1706088600-1706092200@hscmd.org
SUMMARY:HSCMD Executive Committee Meeting
DESCRIPTION:Wednesday\, January 24\, 2024 from 9:30 – 10:30 a.m. If you would like to request the specifics of the meeting\, please make the request to: Admin@hscmd.org or call the office at 305-541-0210.
URL:https://hscmd.org/event/hscmd-executive-committee-meeting-12/
CATEGORIES:Community Meetings
ORGANIZER;CN="HSCMD Admin":MAILTO:admin@hscmd.org
END:VEVENT
BEGIN:VEVENT
DTSTART;TZID=America/New_York:20231213T100000
DTEND;TZID=America/New_York:20231213T113000
DTSTAMP:20260421T233057
CREATED:20231030T201154Z
LAST-MODIFIED:20231030T201154Z
UID:241300-1702461600-1702467000@hscmd.org
SUMMARY:Fetal Infant Mortality Review (FIMR) Community Action Group (CAG) Meeting
DESCRIPTION:Wednesday\, December 13\, 2023\, from 10:00 a.m. – 11:30 a.m. Meeting will occur via zoom.  If you would like to request the specifics of the meeting\, please make the request to: Admin@hscmd.org or call the office at 305-541-0210.
URL:https://hscmd.org/event/fetal-infant-mortality-review-fimr-community-action-group-cag-meeting-5/
LOCATION:Zoom
CATEGORIES:Community Meetings
ORGANIZER;CN="HSCMD Admin":MAILTO:admin@hscmd.org
END:VEVENT
BEGIN:VEVENT
DTSTART;TZID=America/New_York:20231206T093000
DTEND;TZID=America/New_York:20231206T110000
DTSTAMP:20260421T233057
CREATED:20230725T143614Z
LAST-MODIFIED:20230725T144257Z
UID:240918-1701855000-1701860400@hscmd.org
SUMMARY:HSCMD Board of Directors Meeting
DESCRIPTION:Wednesday\, December 6\, 2023 from 9:30 – 11:00 a.m. If you would like to request the specifics of the meeting\, please make the request to: Admin@hscmd.org or call the office at 305-541-0210.
URL:https://hscmd.org/event/hscmd-board-of-directors-meeting-12/
CATEGORIES:Community Meetings
ORGANIZER;CN="HSCMD Admin":MAILTO:admin@hscmd.org
END:VEVENT
BEGIN:VEVENT
DTSTART;VALUE=DATE:20231116
DTEND;VALUE=DATE:20231117
DTSTAMP:20260421T233057
CREATED:20231030T203959Z
LAST-MODIFIED:20231115T202646Z
UID:241302-1700092800-1700179199@hscmd.org
SUMMARY:Give Miami Day 2023
DESCRIPTION:On Thursday\, November 16th\, HSCMD is partnering with The Miami Foundation for a 24-hour event of generosity\, GIVE MIAMI DAY 2023! This year\, we are fundraising to promote one of our vital programs: Moving Beyond Depression. Moving Beyond Depression provides one-on-one In-Home or Virtual Cognitive Behavioral Therapy from a master’s level therapist to mothers enrolled in our Healthy Start home visiting program. \nWould you consider donating $25 or more to help us reach moms who are in dire need of mental health care and support? \nLearn more by going to our page or scanning the QR Code below: https://www.givemiamiday.org/organization/hscmd
URL:https://hscmd.org/event/give-miami-day-2/
LOCATION:Give Miami Day
CATEGORIES:Community Events
ORGANIZER;CN="HSCMD Admin":MAILTO:admin@hscmd.org
END:VEVENT
BEGIN:VEVENT
DTSTART;TZID=America/New_York:20231109T143000
DTEND;TZID=America/New_York:20231109T163000
DTSTAMP:20260421T233057
CREATED:20231030T200808Z
LAST-MODIFIED:20231030T200808Z
UID:241296-1699540200-1699547400@hscmd.org
SUMMARY:Maternal Infant Child Health (MICH) Meeting
DESCRIPTION:Thursday\, November 9\, 2023 @ 2:30 pm – 4:30 pm Meeting will occur via zoom.  If you would like to request the specifics of the meeting\, please make the request to: Admin@hscmd.org or call the office at 305-541-0210.
URL:https://hscmd.org/event/maternal-infant-child-health-mich-meeting-5/
LOCATION:Zoom
CATEGORIES:Community Meetings
ORGANIZER;CN="HSCMD Admin":MAILTO:admin@hscmd.org
END:VEVENT
BEGIN:VEVENT
DTSTART;TZID=America/New_York:20230928T100000
DTEND;TZID=America/New_York:20230928T113000
DTSTAMP:20260421T233058
CREATED:20230806T204123Z
LAST-MODIFIED:20230806T204123Z
UID:240950-1695895200-1695900600@hscmd.org
SUMMARY:Fetal Infant Mortality Review (FIMR) Community Action Group (CAG) Meeting
DESCRIPTION:Thursday\, September 28\, 2023\, from 10:00 a.m. – 11:30 a.m.\nMeeting will occur via zoom.  If you would like to request the specifics of the meeting\, please make the request to:\nAdmin@hscmd.org or call the office at 305-541-0210.
URL:https://hscmd.org/event/fetal-infant-mortality-review-fimr-community-action-group-cag-meeting-4/
LOCATION:Zoom
CATEGORIES:Community Meetings
ORGANIZER;CN="HSCMD Admin":MAILTO:admin@hscmd.org
END:VEVENT
BEGIN:VEVENT
DTSTART;VALUE=DATE:20230920
DTEND;VALUE=DATE:20230921
DTSTAMP:20260421T233058
CREATED:20230725T143329Z
LAST-MODIFIED:20230918T174237Z
UID:240915-1695168000-1695254399@hscmd.org
SUMMARY:HSCMD Executive Committee Meeting- CANCELED
DESCRIPTION:Any questions\, do not hesitate to reach out.  Thank you.\nAdmin@hscmd.org or call the office at 305-541-0210.
URL:https://hscmd.org/event/hscmd-executive-committee-meeting-11/
CATEGORIES:Community Meetings
ORGANIZER;CN="HSCMD Admin":MAILTO:admin@hscmd.org
END:VEVENT
BEGIN:VEVENT
DTSTART;TZID=America/New_York:20230824T143000
DTEND;TZID=America/New_York:20230824T170000
DTSTAMP:20260421T233058
CREATED:20230806T204922Z
LAST-MODIFIED:20230806T204922Z
UID:240952-1692887400-1692896400@hscmd.org
SUMMARY:Maternal Infant Child Health (MICH) Meeting
DESCRIPTION:Meeting will occur via zoom.  If you would like to request the specifics of the meeting\, please make the request to: Admin@hscmd.org or call the office at 305-541-0210.
URL:https://hscmd.org/event/maternal-infant-child-health-mich-meeting-4/
LOCATION:Zoom
CATEGORIES:Community Meetings
ORGANIZER;CN="HSCMD Admin":MAILTO:admin@hscmd.org
END:VEVENT
BEGIN:VEVENT
DTSTART;TZID=America/New_York:20230824T130000
DTEND;TZID=America/New_York:20230824T140000
DTSTAMP:20260421T233058
CREATED:20230817T212923Z
LAST-MODIFIED:20230817T212923Z
UID:241008-1692882000-1692885600@hscmd.org
SUMMARY:Home Visitation Advisory Committee Meeting
DESCRIPTION:Thursday\, August 24\, 2023 from 1:00 – 2:00 pm\nMeeting will occur via zoom.  If you would like to request the specifics of the meeting\, please make the request to: Admin@hscmd.org or call the office at 305-541-0210.
URL:https://hscmd.org/event/home-visitation-advisory-committee-meeting-2/
LOCATION:Zoom
CATEGORIES:Community Meetings
ORGANIZER;CN="HSCMD Admin":MAILTO:admin@hscmd.org
END:VEVENT
BEGIN:VEVENT
DTSTART;TZID=America/New_York:20230726T093000
DTEND;TZID=America/New_York:20230726T103000
DTSTAMP:20260421T233058
CREATED:20230724T133407Z
LAST-MODIFIED:20230725T144141Z
UID:240908-1690363800-1690367400@hscmd.org
SUMMARY:HSCMD Executive Committee Meeting
DESCRIPTION:Wednesday\, July 26\, 2023 from 9:30 – 10:30 a.m.\n\n\n\nIf you would like to request the specifics of the meeting\, please make the request to: Admin@hscmd.org or call the office at 305-541-0210.
URL:https://hscmd.org/event/hscmd-board-of-directors-meeting-11/
CATEGORIES:Community Meetings
ORGANIZER;CN="HSCMD Admin":MAILTO:admin@hscmd.org
END:VEVENT
BEGIN:VEVENT
DTSTART;TZID=America/New_York:20230627T100000
DTEND;TZID=America/New_York:20230627T113000
DTSTAMP:20260421T233058
CREATED:20230519T151629Z
LAST-MODIFIED:20230519T163507Z
UID:240493-1687860000-1687865400@hscmd.org
SUMMARY:Fetal Infant Mortality Review & Community Action Group Meeting
DESCRIPTION:Fetal Infant Mortality Review (FIMR) Community Action Group (CAG) Meeting\n\nTuesday\, June 27\, 2023 from 10:00 – 11:30 am\n\n\n\n\nMeeting will occur via zoom.  For additional information\, please call the office at 305-541-0210.
URL:https://hscmd.org/event/fetal-infant-mortality-review-community-action-group-meeting/
LOCATION:Zoom
CATEGORIES:Community Meetings
ORGANIZER;CN="HSCMD Admin":MAILTO:admin@hscmd.org
END:VEVENT
BEGIN:VEVENT
DTSTART;TZID=America/New_York:20230621T093000
DTEND;TZID=America/New_York:20230621T110000
DTSTAMP:20260421T233058
CREATED:20220729T210120Z
LAST-MODIFIED:20230504T184754Z
UID:235185-1687339800-1687345200@hscmd.org
SUMMARY:HSCMD Board of Directors Meeting
DESCRIPTION:Wednesday\, June 21\, 2023 from 9:30 – 11:00 a.m.\n\n\n\nIf you would like to request the specifics of the meeting\, please make the request to: Admin@hscmd.org or call the office at 305-541-0210.
URL:https://hscmd.org/event/hscmd-board-of-directors-meeting-10/
ORGANIZER;CN="HSCMD Admin":MAILTO:admin@hscmd.org
END:VEVENT
END:VCALENDAR